BEGIN:VCALENDAR
VERSION:2.0
PRODID:-//Dave and Adam&#039;s Store - ECPv6.15.11//NONSGML v1.0//EN
CALSCALE:GREGORIAN
METHOD:PUBLISH
X-ORIGINAL-URL:https://www.daveandadamsstore.com
X-WR-CALDESC:Events for Dave and Adam&#039;s Store
REFRESH-INTERVAL;VALUE=DURATION:PT1H
X-Robots-Tag:noindex
X-PUBLISHED-TTL:PT1H
BEGIN:VTIMEZONE
TZID:America/New_York
BEGIN:DAYLIGHT
TZOFFSETFROM:-0500
TZOFFSETTO:-0400
TZNAME:EDT
DTSTART:20250309T070000
END:DAYLIGHT
BEGIN:STANDARD
TZOFFSETFROM:-0400
TZOFFSETTO:-0500
TZNAME:EST
DTSTART:20251102T060000
END:STANDARD
BEGIN:DAYLIGHT
TZOFFSETFROM:-0500
TZOFFSETTO:-0400
TZNAME:EDT
DTSTART:20260308T070000
END:DAYLIGHT
BEGIN:STANDARD
TZOFFSETFROM:-0400
TZOFFSETTO:-0500
TZNAME:EST
DTSTART:20261101T060000
END:STANDARD
BEGIN:DAYLIGHT
TZOFFSETFROM:-0500
TZOFFSETTO:-0400
TZNAME:EDT
DTSTART:20270314T070000
END:DAYLIGHT
BEGIN:STANDARD
TZOFFSETFROM:-0400
TZOFFSETTO:-0500
TZNAME:EST
DTSTART:20271107T060000
END:STANDARD
END:VTIMEZONE
BEGIN:VEVENT
DTSTART;TZID=America/New_York:20260202T180000
DTEND;TZID=America/New_York:20260202T190000
DTSTAMP:20260422T050146
CREATED:20251230T204602Z
LAST-MODIFIED:20260123T134515Z
UID:21434-1770055200-1770058800@www.daveandadamsstore.com
SUMMARY:Roberto Alomar Autograph Signing
DESCRIPTION:Hall of Fame Legend Roberto Alomar Signing at Dave & Adam’s \nJoin us for a special autograph signing with Roberto Alomar\, one of the greatest second basemen in Major League Baseball history and member of the Hall of Fame. A 12-time All-Star\, 10-time Gold Glove winner\, and 4-time Silver Slugger\, Alomar was a key figure in the Toronto Blue Jays’ back-to-back World Series championships in 1992 and 1993. Widely regarded as one of the most complete players of his era\, his combination of elite defense\, clutch hitting\, and speed made him a perennial fan favorite and an icon of 1990s baseball. \nPlease join us in welcoming Roberto Alomar to Dave & Adam’s for this special appearance! \nPurchase Your Tickets Today! \nPlus\, don’t forget – ticket holders will receive a Signing Event Coupon good for $10 off a purchase of $50 or more in store during the event! \nAn 8×10 photo will be provided for you to have signed if you do not bring your own item. \nSorry\, we are not accepting mail-ins for this signing. \n*By purchasing a ticket to this event\, you consent to being photographed and/or recorded on video during the event. These photographs and/or videos may be used by Dave & Adam’s for promotional purposes\, including but not limited to advertising\, marketing materials\, social media\, and website content. If you do not wish to be photographed or recorded\, please notify event staff upon arrival.
URL:https://www.daveandadamsstore.com/event/roberto-alomar-autograph-signing/
LOCATION:Dave & Adam’s\, 8075 Sheridan Drive\, Williamsville\, NY\, 14211\, United States
CATEGORIES:Signing
ATTACH;FMTTYPE=image/png:https://www.daveandadamsstore.com/wp-content/uploads/2025/12/020226_Roberto-Alomar-Signing_Event-Banner.png
END:VEVENT
BEGIN:VEVENT
DTSTART;TZID=America/New_York:20260204T180000
DTEND;TZID=America/New_York:20260204T190000
DTSTAMP:20260422T050146
CREATED:20260128T152204Z
LAST-MODIFIED:20260128T170352Z
UID:21465-1770228000-1770231600@www.daveandadamsstore.com
SUMMARY:Mike Ramsey Autograph Signing
DESCRIPTION:Dave & Adam’s is extremely excited to bring former Buffalo Sabre Mike Ramsey in for an autograph signing! \nDrafted 11th overall by the Buffalo Sabres in the 1979 NHL Entry Draft\, Ramsey was the youngest member of the 1980 US Olympic Team that upset the Soviet Union and win gold at the 1980 Winter Olympics in Lake Placid\, NY. \nRamsey spent 14 years of his NHL career in Buffalo\, he served as team captain from 1990 to 1992 and was a 4 time NHL All-Star. \nRamsey was inducted into the United States Hockey Hall of Fame in 2001. \nPlease join us in welcoming Mike Ramsey for this special appearance! \nPurchase your tickets today! \nPlus\, don’t forget – ticket holders will receive a Signing Event Coupon good for $10 off a purchase of $50 or more in store the day of the event! \nSorry\, we will not be accepting mail-in items for this signing. \nDave & Adam’s will provide an 8×10 photo to customers who purchase a ticket and do not bring their own item to be signed.
URL:https://www.daveandadamsstore.com/event/mike-ramsey-autograph-signing-2/
LOCATION:Dave & Adam’s\, 8075 Sheridan Drive\, Williamsville\, NY\, 14211\, United States
CATEGORIES:Signing
ATTACH;FMTTYPE=image/png:https://www.daveandadamsstore.com/wp-content/uploads/2026/01/020426_Mike-Ramsey-Signing_Event-Banner.png
END:VEVENT
BEGIN:VEVENT
DTSTART;TZID=America/New_York:20260217T180000
DTEND;TZID=America/New_York:20260217T190000
DTSTAMP:20260422T050146
CREATED:20260203T184624Z
LAST-MODIFIED:20260205T143722Z
UID:21479-1771351200-1771354800@www.daveandadamsstore.com
SUMMARY:Mattias Samuelsson & Noah Ostlund Dual Autograph Signing
DESCRIPTION:Dave & Adam’s is excited to bring two of Buffalo’s hottest hockey players in for an autograph signing! \nDon’t miss this exclusive opportunity to meet both players and get your favorite piece of memorabilia signed. \nPlease join us in welcoming Mattias & Noah to Dave & Adam’s for this special appearance! \nPlus\, don’t forget – ticket holders will receive a Signing Event Coupon good for $10 off a purchase of $50 or more in store the night of the event! \nPurchase your tickets today! \nAn 8×10 photo will be provided for you to have signed if you do not bring your own item. \nSorry\, we are not accepting mail-ins for this signing. \n*By purchasing a ticket to this event\, you consent to being photographed and/or recorded on video during the event. These photographs and/or videos may be used by Dave & Adam’s for promotional purposes\, including but not limited to advertising\, marketing materials\, social media\, and website content. If you do not wish to be photographed or recorded\, please notify event staff upon arrival. \nPlease contact us at buffalo@dacardworld.com with any questions regarding this event.
URL:https://www.daveandadamsstore.com/event/noah-ostlund-mattias-samuelsson-dual-autograph-signing/
LOCATION:Dave & Adam’s\, 8075 Sheridan Drive\, Williamsville\, NY\, 14211\, United States
CATEGORIES:Signing
ATTACH;FMTTYPE=image/png:https://www.daveandadamsstore.com/wp-content/uploads/2026/02/021726_Noah-Ostlund-Mattias-Samuelsson-Signing_Event-Banner-1.png
END:VEVENT
BEGIN:VEVENT
DTSTART;TZID=America/New_York:20260309T180000
DTEND;TZID=America/New_York:20260309T190000
DTSTAMP:20260422T050146
CREATED:20260223T163521Z
LAST-MODIFIED:20260223T163521Z
UID:21522-1773079200-1773082800@www.daveandadamsstore.com
SUMMARY:Jack Quinn & Zach Benson Dual Autograph Signing
DESCRIPTION:Dave & Adam’s is excited to bring two of Buffalo’s hottest hockey players in for an autograph signing! \nDon’t miss this exclusive opportunity to meet both players and get your favorite piece of memorabilia signed. \nPlease join us in welcoming Zach & Jack to Dave & Adam’s for this special appearance! \nPlus\, don’t forget – ticket holders will receive a Signing Event Coupon good for $10 off a purchase of $50 or more in store the night of the event! \nPurchase Your Tickets Today! \nAn 8×10 photo will be provided for you to have signed if you do not bring your own item. \nSorry\, we are not accepting mail-ins for this signing. \n*By purchasing a ticket to this event\, you consent to being photographed and/or recorded on video during the event. These photographs and/or videos may be used by Dave & Adam’s for promotional purposes\, including but not limited to advertising\, marketing materials\, social media\, and website content. If you do not wish to be photographed or recorded\, please notify event staff upon arrival. \nPlease contact us at buffalo@dacardworld.com with any questions regarding this event.
URL:https://www.daveandadamsstore.com/event/jack-quinn-zach-benson-dual-autograph-signing/
LOCATION:Dave & Adam’s\, 8075 Sheridan Drive\, Williamsville\, NY\, 14211\, United States
CATEGORIES:Signing
ATTACH;FMTTYPE=image/png:https://www.daveandadamsstore.com/wp-content/uploads/2026/02/030926_Jack-Quinn-Zach-Benson-Signing_Social_Event-Banner.png
END:VEVENT
BEGIN:VEVENT
DTSTART;TZID=America/New_York:20260408T180000
DTEND;TZID=America/New_York:20260408T190000
DTSTAMP:20260422T050146
CREATED:20260320T123325Z
LAST-MODIFIED:20260320T123325Z
UID:21558-1775671200-1775674800@www.daveandadamsstore.com
SUMMARY:Dave Andreychuk Autograph Signing
DESCRIPTION:Dave & Adam’s is extremely excited to bring former Buffalo Sabre Dave Andreychuk back to Buffalo for an autograph signing! \nAndreychuk spent 12 seasons as a member of the Buffalo Sabres organization and is one of the highest scoring left wingers in NHL history. Andreychuk used his combination of size and scoring touch to record 1\,338 points in 1\,639 NHL games that spanned 26 years! \nIn addition to Buffalo\, Andreychuk played with the Toronto Maple Leafs\, New Jersey Devils\, Boston Bruins\, Colorado Avalanche and the Tampa Bay Lightning where he won a Stanley Cup in the 2003-04 season. \nPlease join us in welcoming Dave Andreychuk to Dave & Adam’s for this special appearance! \nPurchase Your Tickets Today \nPlus\, don’t forget – ticket holders will receive a Signing Event Coupon good for $10 off a purchase of $50 or more in store the night of the event! \nAn 8×10 photo will be provided for you to have signed if you do not bring your own item. \nSorry\, we are not accepting mail-ins for this signing. \n*By purchasing a ticket to this event\, you consent to being photographed and/or recorded on video during the event. These photographs and/or videos may be used by Dave & Adam’s for promotional purposes\, including but not limited to advertising\, marketing materials\, social media\, and website content. If you do not wish to be photographed or recorded\, please notify event staff upon arrival. \nPlease contact us at buffalo@dacardworld.com with any questions regarding this event.
URL:https://www.daveandadamsstore.com/event/dave-andreychuk-autograph-signing-2/
LOCATION:Dave & Adam’s\, 8075 Sheridan Drive\, Williamsville\, NY\, 14211\, United States
CATEGORIES:Signing
ATTACH;FMTTYPE=image/png:https://www.daveandadamsstore.com/wp-content/uploads/2026/03/040826_Dave-Andreychuk-Signing_Event-Banner.png
END:VEVENT
END:VCALENDAR