BEGIN:VCALENDAR
VERSION:2.0
PRODID:-//Dave and Adam&#039;s Store - ECPv6.15.11//NONSGML v1.0//EN
CALSCALE:GREGORIAN
METHOD:PUBLISH
X-ORIGINAL-URL:https://www.daveandadamsstore.com
X-WR-CALDESC:Events for Dave and Adam&#039;s Store
REFRESH-INTERVAL;VALUE=DURATION:PT1H
X-Robots-Tag:noindex
X-PUBLISHED-TTL:PT1H
BEGIN:VTIMEZONE
TZID:America/New_York
BEGIN:DAYLIGHT
TZOFFSETFROM:-0500
TZOFFSETTO:-0400
TZNAME:EDT
DTSTART:20230312T070000
END:DAYLIGHT
BEGIN:STANDARD
TZOFFSETFROM:-0400
TZOFFSETTO:-0500
TZNAME:EST
DTSTART:20231105T060000
END:STANDARD
BEGIN:DAYLIGHT
TZOFFSETFROM:-0500
TZOFFSETTO:-0400
TZNAME:EDT
DTSTART:20240310T070000
END:DAYLIGHT
BEGIN:STANDARD
TZOFFSETFROM:-0400
TZOFFSETTO:-0500
TZNAME:EST
DTSTART:20241103T060000
END:STANDARD
BEGIN:DAYLIGHT
TZOFFSETFROM:-0500
TZOFFSETTO:-0400
TZNAME:EDT
DTSTART:20250309T070000
END:DAYLIGHT
BEGIN:STANDARD
TZOFFSETFROM:-0400
TZOFFSETTO:-0500
TZNAME:EST
DTSTART:20251102T060000
END:STANDARD
END:VTIMEZONE
BEGIN:VEVENT
DTSTART;TZID=America/New_York:20240119T180000
DTEND;TZID=America/New_York:20240119T190000
DTSTAMP:20260422T045018
CREATED:20231227T162111Z
LAST-MODIFIED:20231229T153920Z
UID:3070-1705687200-1705690800@www.daveandadamsstore.com
SUMMARY:Dominik Hasek Autograph Signing
DESCRIPTION:Dave & Adam’s is extremely excited to bring former Buffalo Sabre and Dave & Adam’s Exclusive Athlete\, Dominik Hasek back to Buffalo for an autograph signing! \nHasek played 9 of his 16 NHL seasons in Buffalo where his unorthodox style of goaltending was the backbone of the mid to late 90’s Buffalo teams and earned him the nickname “The Dominator”. \nGenerally regarded as one of the best goaltenders of all time\, Hasek is a 6x Vezina Award Winner\, 2x Hart Memorial Trophy Winner\, and 2x Stanley Cup Champion. In addition to Buffalo\, Hasek played for the Chicago Blackhawks\, Detroit Red Wings\, and the Ottawa Senators. \nDominik Hasek was inducted into the Hockey Hall of Fame on November 17\, 2014. \nPlease join us in welcoming Dominik Hasek for this special appearance! \nPurchase your tickets today! \nPlus\, don’t forget…ticket holders will receive a Signing Event Coupon good for $10 off a purchase of $50 or more in store the night of the event! \nSorry\, we will not be accepting mail-in items for this signing. \nDave & Adam’s will provide an 8×10 photo to customers who purchase a ticket and do not bring their own item to be signed.
URL:https://www.daveandadamsstore.com/event/dominik-hasek-autograph-signing-2024/
LOCATION:Dave & Adam’s\, 8075 Sheridan Drive\, Williamsville\, NY\, 14211\, United States
CATEGORIES:Signing
ATTACH;FMTTYPE=image/png:https://www.daveandadamsstore.com/wp-content/uploads/2023/12/011924_Dominik-Hasek-Signing_DA-Site.png
END:VEVENT
END:VCALENDAR