BEGIN:VCALENDAR
VERSION:2.0
PRODID:-//Dave and Adam&#039;s Store - ECPv6.15.11//NONSGML v1.0//EN
CALSCALE:GREGORIAN
METHOD:PUBLISH
X-WR-CALNAME:Dave and Adam&#039;s Store
X-ORIGINAL-URL:https://www.daveandadamsstore.com
X-WR-CALDESC:Events for Dave and Adam&#039;s Store
REFRESH-INTERVAL;VALUE=DURATION:PT1H
X-Robots-Tag:noindex
X-PUBLISHED-TTL:PT1H
BEGIN:VTIMEZONE
TZID:America/New_York
BEGIN:DAYLIGHT
TZOFFSETFROM:-0500
TZOFFSETTO:-0400
TZNAME:EDT
DTSTART:20240310T070000
END:DAYLIGHT
BEGIN:STANDARD
TZOFFSETFROM:-0400
TZOFFSETTO:-0500
TZNAME:EST
DTSTART:20241103T060000
END:STANDARD
BEGIN:DAYLIGHT
TZOFFSETFROM:-0500
TZOFFSETTO:-0400
TZNAME:EDT
DTSTART:20250309T070000
END:DAYLIGHT
BEGIN:STANDARD
TZOFFSETFROM:-0400
TZOFFSETTO:-0500
TZNAME:EST
DTSTART:20251102T060000
END:STANDARD
BEGIN:DAYLIGHT
TZOFFSETFROM:-0500
TZOFFSETTO:-0400
TZNAME:EDT
DTSTART:20260308T070000
END:DAYLIGHT
BEGIN:STANDARD
TZOFFSETFROM:-0400
TZOFFSETTO:-0500
TZNAME:EST
DTSTART:20261101T060000
END:STANDARD
BEGIN:DAYLIGHT
TZOFFSETFROM:-0500
TZOFFSETTO:-0400
TZNAME:EDT
DTSTART:20270314T070000
END:DAYLIGHT
BEGIN:STANDARD
TZOFFSETFROM:-0400
TZOFFSETTO:-0500
TZNAME:EST
DTSTART:20271107T060000
END:STANDARD
END:VTIMEZONE
BEGIN:VEVENT
DTSTART;TZID=America/New_York:20251018T150000
DTEND;TZID=America/New_York:20251018T170000
DTSTAMP:20260425T123823
CREATED:20251008T120029Z
LAST-MODIFIED:20251009T182215Z
UID:21346-1760799600-1760806800@www.daveandadamsstore.com
SUMMARY:Trade or Treat at Dave & Adam’s!
DESCRIPTION:We’re taking Trade Night outside for a spooky twist! Join us for our first-ever “Trade or Treat” event — where collectors of all ages can swap cards with the spookiest collectors around. \n  \n💀 Event Highlights: \n\n\nTrade cards in our Halloween-themed “Trunk or Treat” setup \n\n\nDress up — costumes encouraged for collectors and their cards alike! \n\n\nKids 14 & under get a FREE Dave & Adam’s Goodie Bag! \n\nCollectors are encouraged to deck their trunks out for the event!\n\nReserve your trunk now to lock in your parking spot. \n\n\n👻 Spaces are limited — sign up today and get ready for a hauntingly good time of trades\, treats\, and thrills! \n \nIf you have any questions regarding this event please feel free to contact us at 716-626-0000 or email buffalo@dacardworld.com
URL:https://www.daveandadamsstore.com/event/trade-or-treat-at-dave-adams/
LOCATION:Dave & Adam’s\, 8075 Sheridan Drive\, Williamsville\, NY\, 14211\, United States
CATEGORIES:Promotion
ATTACH;FMTTYPE=image/png:https://www.daveandadamsstore.com/wp-content/uploads/2025/10/101825_Trade-or-Treat_Event-Banner.png
END:VEVENT
BEGIN:VEVENT
DTSTART;TZID=America/New_York:20251025T100000
DTEND;TZID=America/New_York:20251025T170000
DTSTAMP:20260425T123823
CREATED:20251007T131628Z
LAST-MODIFIED:20251007T131628Z
UID:21343-1761386400-1761411600@www.daveandadamsstore.com
SUMMARY:JSA Authentication Event
DESCRIPTION:James Spence Authentication Returns to Dave & Adam’s!\n\nJames Spence Authentication (JSA) is returning to Dave & Adam’s for one day only! Don’t miss your chance to have your autographed items authenticated by one of the most trusted names in the industry.\n\nBring your autographed memorabilia directly to the store during the event\, or drop off your items starting Friday\, October 24th for review.\nJSA will be in-store for ONE DAY only: Saturday\, October 25th | 10:00am – 5:00pm \nBefore you visit\, check out the JSA Fees Page to see authentication pricing\, and visit JSA’s website for more information on the process. \nIf you have any questions regarding this event please feel free to contact us at 716-626-0000 or email buffalo@dacardworld.com
URL:https://www.daveandadamsstore.com/event/jsa-authentication-event/
LOCATION:Dave & Adam’s\, 8075 Sheridan Drive\, Williamsville\, NY\, 14211\, United States
CATEGORIES:Promotion
ATTACH;FMTTYPE=image/png:https://www.daveandadamsstore.com/wp-content/uploads/2025/10/102525_JSA-Event_Event.png
END:VEVENT
BEGIN:VEVENT
DTSTART;TZID=America/New_York:20251212T180000
DTEND;TZID=America/New_York:20251212T200000
DTSTAMP:20260425T123823
CREATED:20251124T204037Z
LAST-MODIFIED:20251124T204054Z
UID:21401-1765562400-1765569600@www.daveandadamsstore.com
SUMMARY:Sports Trade Night
DESCRIPTION:Dave & Adam’s Trade Night\nBring your cards to Buy\, Sell & Trade with fellow collectors! \nEveryone who comes will get a FREE pack just for attending! \nPlus\, we will have giveaways for those in attendance. \nJoin us for a night dedicated to the excitement of collecting. Whether you’re a seasoned collector or a newcomer to the hobby\, this event promises to be a fantastic opportunity to dive into the world of trading cards at Dave & Adam’s \nCome on out\, it doesn’t matter if you’re looking to complete your collection or simply connect with fellow collectors!
URL:https://www.daveandadamsstore.com/event/sports-trade-night-december-2025/
LOCATION:Dave & Adam’s\, 8075 Sheridan Drive\, Williamsville\, NY\, 14211\, United States
CATEGORIES:Promotion
ATTACH;FMTTYPE=image/png:https://www.daveandadamsstore.com/wp-content/uploads/2025/11/120525_DA-Buffalo_Sports-Trade-Night_Social_FB-Event.png
END:VEVENT
BEGIN:VEVENT
DTSTART;TZID=America/New_York:20260221T100000
DTEND;TZID=America/New_York:20260222T170000
DTSTAMP:20260425T123823
CREATED:20260218T132158Z
LAST-MODIFIED:20260218T132458Z
UID:21510-1771668000-1771779600@www.daveandadamsstore.com
SUMMARY:Buffalo Bills Apparel & Collectibles Sale
DESCRIPTION:Circle the Wagons & Save 20%! \nFrom officially licensed jerseys\, hoodies\, and hats to must-have collectibles\, this is your chance to score big savings on everything you need to represent the red\, white\, and blue. \n 
URL:https://www.daveandadamsstore.com/event/buffalo-bills-apparel-collectibles-sale/
LOCATION:Dave & Adam’s\, 8075 Sheridan Drive\, Williamsville\, NY\, 14211\, United States
CATEGORIES:Promotion
ATTACH;FMTTYPE=image/png:https://www.daveandadamsstore.com/wp-content/uploads/2026/02/021326_20-Off-Bills-Memorabilia_TV_Horizontal-TV.png
END:VEVENT
BEGIN:VEVENT
DTSTART;TZID=America/New_York:20260411T100000
DTEND;TZID=America/New_York:20260411T200000
DTSTAMP:20260425T123823
CREATED:20260302T190745Z
LAST-MODIFIED:20260403T192814Z
UID:21528-1775901600-1775937600@www.daveandadamsstore.com
SUMMARY:2026 National Hockey Card Day
DESCRIPTION:FREE Upper Deck Hockey Cards! \nNational Hockey Card Day\, now in its 17th year\, is a day of celebration for hockey fans and collectors around the world! \nStop into the store on Saturday\, April 11th and receive a FREE pack of National Hockey Card Day cards and join thousands of hockey fans around the world as we celebrate collecting trading cards! \nNational Hockey Card Day was made for fans who are looking to start their collection and join the hobby community. This is your chance to connect with other collecting enthusiasts and discover the thrill of trading cards. \nUnwrap NHL® trading cards featuring top rookies\, veterans\, and legends! If you’re lucky\, you might find a Victory rookie\, autograph\, and mascot inserts as well. For the first time ever\, this year’s National Hockey Card Day packs will feature a PWHL insert set! \nPlus\, spend $10 on Upper Deck products and get a FREE special Ivan Demidov Rookie Moments bonus card! *While supplies last. \n***UPDATE*** \nDave & Adam’s is THE place to be for a full weekend hockey card celebration! \nFriday–Sunday:Take 10% OFF all Upper Deck hockey products! \nPLUS:Live in-store breaks happening ALL weekend long! \n  \n \nCheck out the complete National Hockey Card Day Card Gallery & Checklist.
URL:https://www.daveandadamsstore.com/event/2026-national-hockey-card-day/
LOCATION:Dave & Adam’s\, 8075 Sheridan Drive\, Williamsville\, NY\, 14211\, United States
CATEGORIES:Promotion
ATTACH;FMTTYPE=image/png:https://www.daveandadamsstore.com/wp-content/uploads/2026/03/V2_041126_BUF_National-Hockey-Card-Day_Social__FB-Event.png
END:VEVENT
BEGIN:VEVENT
DTSTART;TZID=America/New_York:20260514T160000
DTEND;TZID=America/New_York:20260514T190000
DTSTAMP:20260425T123823
CREATED:20260421T135904Z
LAST-MODIFIED:20260421T135904Z
UID:21588-1778774400-1778785200@www.daveandadamsstore.com
SUMMARY:Panini Mobile Tour
DESCRIPTION:The Panini World Cup Mobile Tour is coming to BUFFALO! \n  \nCelebrate the excitement of the FIFA World Cup with an interactive\, family-friendly experience packed with fun for collectors and fans! \nCustomers will get a FREE FIFA World Cup Sticker Album! \nPlus:– Digital Photo booth to “Create Your Own Sticker/Trading Card”– Virtual Soccer Kick– and MORE! \n 
URL:https://www.daveandadamsstore.com/event/panini-mobile-tour/
LOCATION:NY
CATEGORIES:Promotion
ATTACH;FMTTYPE=image/jpeg:https://www.daveandadamsstore.com/wp-content/uploads/2026/04/Social-4-1.jpg
END:VEVENT
END:VCALENDAR