BEGIN:VCALENDAR
VERSION:2.0
PRODID:-//Dave and Adam&#039;s Store - ECPv6.15.11//NONSGML v1.0//EN
CALSCALE:GREGORIAN
METHOD:PUBLISH
X-ORIGINAL-URL:https://www.daveandadamsstore.com
X-WR-CALDESC:Events for Dave and Adam&#039;s Store
REFRESH-INTERVAL;VALUE=DURATION:PT1H
X-Robots-Tag:noindex
X-PUBLISHED-TTL:PT1H
BEGIN:VTIMEZONE
TZID:America/New_York
BEGIN:DAYLIGHT
TZOFFSETFROM:-0500
TZOFFSETTO:-0400
TZNAME:EDT
DTSTART:20240310T070000
END:DAYLIGHT
BEGIN:STANDARD
TZOFFSETFROM:-0400
TZOFFSETTO:-0500
TZNAME:EST
DTSTART:20241103T060000
END:STANDARD
BEGIN:DAYLIGHT
TZOFFSETFROM:-0500
TZOFFSETTO:-0400
TZNAME:EDT
DTSTART:20250309T070000
END:DAYLIGHT
BEGIN:STANDARD
TZOFFSETFROM:-0400
TZOFFSETTO:-0500
TZNAME:EST
DTSTART:20251102T060000
END:STANDARD
BEGIN:DAYLIGHT
TZOFFSETFROM:-0500
TZOFFSETTO:-0400
TZNAME:EDT
DTSTART:20260308T070000
END:DAYLIGHT
BEGIN:STANDARD
TZOFFSETFROM:-0400
TZOFFSETTO:-0500
TZNAME:EST
DTSTART:20261101T060000
END:STANDARD
END:VTIMEZONE
BEGIN:VEVENT
DTSTART;TZID=America/New_York:20250405T100000
DTEND;TZID=America/New_York:20250405T200000
DTSTAMP:20260423T230523
CREATED:20250310T194739Z
LAST-MODIFIED:20250318T150650Z
UID:21111-1743847200-1743883200@www.daveandadamsstore.com
SUMMARY:2025 Upper Deck National Hockey Card Day!
DESCRIPTION:National Hockey Card Day\, now in its 16th year\, is a day of celebration for hockey fans and collectors around the world! \nStop into the store on Saturday\, April 5th and receive a FREE pack of National Hockey Card Day cards join thousands of hockey fans around the world as we celebrate collecting trading cards! \nNational Hockey Card Day was made for fans who are looking to start their collection and join the hobby community. This is your chance to connect with other collecting enthusiasts and discover the thrill of trading cards. \nUnwrap NHL® trading cards featuring top rookies\, veterans\, and legends! If you’re lucky\, you might find a Victory rookie\, autograph\, and mascot inserts as well. \nPlus\, spend $10 on Upper Deck products and get a FREE special Macklin Celebrini Rookie Moments bonus card! *While supplies last. \n \nCheck out the complete National Hockey Card Day Checklist.
URL:https://www.daveandadamsstore.com/event/2025-upper-deck-national-hockey-card-day/
LOCATION:Dave & Adam’s\, 8075 Sheridan Drive\, Williamsville\, NY\, 14211\, United States
CATEGORIES:Promotion
ATTACH;FMTTYPE=image/png:https://www.daveandadamsstore.com/wp-content/uploads/2025/03/040525_National-Hockey-Card-Day_Event.png
END:VEVENT
END:VCALENDAR