BEGIN:VCALENDAR
VERSION:2.0
PRODID:-//Dave and Adam&#039;s Store - ECPv6.15.11//NONSGML v1.0//EN
CALSCALE:GREGORIAN
METHOD:PUBLISH
X-ORIGINAL-URL:https://www.daveandadamsstore.com
X-WR-CALDESC:Events for Dave and Adam&#039;s Store
REFRESH-INTERVAL;VALUE=DURATION:PT1H
X-Robots-Tag:noindex
X-PUBLISHED-TTL:PT1H
BEGIN:VTIMEZONE
TZID:America/New_York
BEGIN:DAYLIGHT
TZOFFSETFROM:-0500
TZOFFSETTO:-0400
TZNAME:EDT
DTSTART:20230312T070000
END:DAYLIGHT
BEGIN:STANDARD
TZOFFSETFROM:-0400
TZOFFSETTO:-0500
TZNAME:EST
DTSTART:20231105T060000
END:STANDARD
BEGIN:DAYLIGHT
TZOFFSETFROM:-0500
TZOFFSETTO:-0400
TZNAME:EDT
DTSTART:20240310T070000
END:DAYLIGHT
BEGIN:STANDARD
TZOFFSETFROM:-0400
TZOFFSETTO:-0500
TZNAME:EST
DTSTART:20241103T060000
END:STANDARD
BEGIN:DAYLIGHT
TZOFFSETFROM:-0500
TZOFFSETTO:-0400
TZNAME:EDT
DTSTART:20250309T070000
END:DAYLIGHT
BEGIN:STANDARD
TZOFFSETFROM:-0400
TZOFFSETTO:-0500
TZNAME:EST
DTSTART:20251102T060000
END:STANDARD
END:VTIMEZONE
BEGIN:VEVENT
DTSTART;TZID=America/New_York:20241116T180000
DTEND;TZID=America/New_York:20241116T200000
DTSTAMP:20260424T074637
CREATED:20241018T133410Z
LAST-MODIFIED:20241104T130834Z
UID:20336-1731780000-1731787200@www.daveandadamsstore.com
SUMMARY:Hit Parade Rip Nght
DESCRIPTION:Save the Date for Hit Parade Rip Night!  \n  \nJoin us on Saturday\, November 16th from 6pm to 8pm for Hit Parade Rip Night \n\n \n $25 TO SPEND ON HIT PARADE PRODUCTS GIVEAWAYS EVERY 10 MINUTES!! FREE DRINK TICKET SPECIAL GUEST\n \n\nEveryone that walks through the door will receive at least $25 to spend on ANY Hit Parade products!!\n\n \nEvery $50 you spend on Hit Parade will get you ADDITIONAL TICKETS for the grand prize drawings at the end of the night! \n\n \nAdditional prizes will be inserted in random HP boxes \n\n \nSell or trade with the Hit Parade buyers all night!!\n  \n \n  \n\nHit Parade Rip Night GIVEAWAYS \nOver $7\,000 in giveaways!!\n\n\nA winner EVERY 10 minutes \n  \n\n\n\n\n\n\n\n  \nEveryone in attendance will receive AT LEAST $25 to spend on any Hit Parade product!!
URL:https://www.daveandadamsstore.com/event/hit-parade-rip-nght/
LOCATION:Dave & Adam’s\, 8075 Sheridan Drive\, Williamsville\, NY\, 14211\, United States
CATEGORIES:Promotion
ATTACH;FMTTYPE=image/png:https://www.daveandadamsstore.com/wp-content/uploads/2024/10/111624_HP-Rip-Night_DA-Site-1.png
END:VEVENT
BEGIN:VEVENT
DTSTART;TZID=America/New_York:20241122T180000
DTEND;TZID=America/New_York:20241122T200000
DTSTAMP:20260424T074637
CREATED:20241024T154506Z
LAST-MODIFIED:20241025T131941Z
UID:20449-1732298400-1732305600@www.daveandadamsstore.com
SUMMARY:Sports Trade Night
DESCRIPTION:Dave & Adam’s Trade Night\nBring your cards to Buy\, Sell & Trade with fellow collectors! \nEveryone who comes will get a FREE pack just for attending! \nPlus\, we have giveaways for those in attendance. Stay tuned for the list of giveaways! \nJoin us for a day dedicated to the excitement of collecting. Whether you’re a seasoned collector or a newcomer to the hobby\, this event promises to be a fantastic opportunity to dive into the world of trading cards at Dave & Adam’s \nCome on out\, it doesn’t matter if you’re looking to complete your collection or simply connect with fellow collectors!
URL:https://www.daveandadamsstore.com/event/sports-trade-night-2/
CATEGORIES:Promotion
ATTACH;FMTTYPE=image/png:https://www.daveandadamsstore.com/wp-content/uploads/2024/10/112224_Sports-Trade-Night_Event-Banner.png
END:VEVENT
BEGIN:VEVENT
DTSTART;TZID=America/New_York:20241129T090000
DTEND;TZID=America/New_York:20241129T200000
DTSTAMP:20260424T074637
CREATED:20241126T122531Z
LAST-MODIFIED:20241127T212743Z
UID:20851-1732870800-1732910400@www.daveandadamsstore.com
SUMMARY:2024 Panini Black Friday Pack Promotion
DESCRIPTION:Panini’s Black Friday Pack Promotion is BACK! \n  \nPlease note: Due to a shipping delay\, we will not have the Panini Black Friday packs when the store opens at 9am on Black Friday. If you planned to shop early to take part in the promotion we will give you a ticket for you to claim your packs later in the day. \n  \nBlack Friday at Dave & Adam’s: Panini Black Friday Pack Promotion \nJoin us this Black Friday for an exclusive opportunity to take part in Panini’s 2024 Black Friday Pack Promotion! \nHere’s How It Works: \n\nSpend $250 on Panini products in-store on Black Friday\, and you’ll receive 1 exclusive 2024 Panini Black Friday Pack.\nPacks are packed with exclusive cards\, including rare parallels\, autographs\, and memorabilia featuring the biggest names in sports!\n\nHurry! Supplies Are Limited \nWe only have 100 packs available\, so don’t miss your chance to get your hands on these packs! \n⚠️ Disclaimer:\nThis promotion is available while supplies last — only 100 packs will be distributed\, so shop early to secure yours! \nKick off your holiday shopping with the ultimate reward for sports card collectors. We’ll see you this Black Friday at Dave & Adam’s! \n 
URL:https://www.daveandadamsstore.com/event/2024-panini-black-friday-pack-promotion/
LOCATION:Dave & Adam’s\, 8075 Sheridan Drive\, Williamsville\, NY\, 14211\, United States
CATEGORIES:Promotion
ATTACH;FMTTYPE=image/jpeg:https://www.daveandadamsstore.com/wp-content/uploads/2024/11/2024-Black-Friday.jpg
END:VEVENT
BEGIN:VEVENT
DTSTART;TZID=America/New_York:20241129T090000
DTEND;TZID=America/New_York:20241201T170000
DTSTAMP:20260424T074637
CREATED:20241125T175233Z
LAST-MODIFIED:20241125T175853Z
UID:20835-1732870800-1733072400@www.daveandadamsstore.com
SUMMARY:Dave & Adam’s 2024 Black Friday Sale
DESCRIPTION:Black Friday Weekend at Dave & Adam’s\nGet ready for the ultimate celebration of all things collectible at Dave & Adam’s Black Friday Sale! \nStore Hours: \nBlack Friday: 9:00am to 8:00pm \nSaturday: 10:00am to 8:00pm \nSunday: 10:00am to 5:00pm \n  \n20% Off Apparel\, Memorabilia & Collectibles!  \nEnjoy a 20% off on apparel\, memorabilia\, and collectibles that will take your fanhood to the next level. From Bills & Sabres jerseys to must-have memorabilia\, we’ve got it all! \n50% Off Custom Jerseys! \nGear up for game day at half the price! Players include: Josh Allen\, James Cook\, Dawson Knox\, Dalton Kincaid\, Damar Hamlin\, & More! \nUp to 50% Off Gaming Singles! \nPower up your collection! Get up to 50% off singles from Star Wars Unlimited\, Yu-Gi-Oh\, Lorcana\, Pokémon\, and Magic: The Gathering. \nDave & Adam’s Doorbuster Deals! \nGear up for discounts with our exclusive Doorbuster Deals. But remember\, these offers are available only while supplies last\, so be sure to arrive early to snag the hottest items! \nCheck out these Doorbusters: \n\n		\n		\n			\n				\n			\n			\n				\n			\n			\n				\n			\n			\n				\n			\n		\n\n  \n Giveaways Galore!  \nThat’s not all – we’re spreading the holiday cheer with incredible giveaways throughout the weekend: \n Friday: Keon Coleman Autographed Red Custom Jersey \n Saturday: Dominik Hasek & Ryan Miller Framed Autographed 16X20 \n Sunday: Josh Allen Autographed Lunar Mini Helmet \n Black Friday Weekend Grand Prize Giveaway (Friday – Sunday)  As the grand finale\, enter for a chance to win the Black Friday Weekend Grand Prize: 2 Buffalo Sabres Tickets in the Dave & Adam’s Suite! Elevate your game-day experience with this exclusive opportunity. \n \nMark your calendars and join us for a weekend filled with savings and spectacular giveaways. Don’t miss out on the biggest Black Friday event in town – only at Dave & Adam’s! \nSee you there!
URL:https://www.daveandadamsstore.com/event/dave-adams-2024-black-friday-sale/
LOCATION:Dave & Adam’s\, 8075 Sheridan Drive\, Williamsville\, NY\, 14211\, United States
CATEGORIES:Promotion
ATTACH;FMTTYPE=image/png:https://www.daveandadamsstore.com/wp-content/uploads/2024/11/2024_DA-Buffalo-Black-Friday_Event-Banner.png
END:VEVENT
END:VCALENDAR