BEGIN:VCALENDAR
VERSION:2.0
PRODID:-//Dave and Adam&#039;s Store - ECPv6.15.11//NONSGML v1.0//EN
CALSCALE:GREGORIAN
METHOD:PUBLISH
X-WR-CALNAME:Dave and Adam&#039;s Store
X-ORIGINAL-URL:https://www.daveandadamsstore.com
X-WR-CALDESC:Events for Dave and Adam&#039;s Store
REFRESH-INTERVAL;VALUE=DURATION:PT1H
X-Robots-Tag:noindex
X-PUBLISHED-TTL:PT1H
BEGIN:VTIMEZONE
TZID:America/New_York
BEGIN:DAYLIGHT
TZOFFSETFROM:-0500
TZOFFSETTO:-0400
TZNAME:EDT
DTSTART:20230312T070000
END:DAYLIGHT
BEGIN:STANDARD
TZOFFSETFROM:-0400
TZOFFSETTO:-0500
TZNAME:EST
DTSTART:20231105T060000
END:STANDARD
BEGIN:DAYLIGHT
TZOFFSETFROM:-0500
TZOFFSETTO:-0400
TZNAME:EDT
DTSTART:20240310T070000
END:DAYLIGHT
BEGIN:STANDARD
TZOFFSETFROM:-0400
TZOFFSETTO:-0500
TZNAME:EST
DTSTART:20241103T060000
END:STANDARD
BEGIN:DAYLIGHT
TZOFFSETFROM:-0500
TZOFFSETTO:-0400
TZNAME:EDT
DTSTART:20250309T070000
END:DAYLIGHT
BEGIN:STANDARD
TZOFFSETFROM:-0400
TZOFFSETTO:-0500
TZNAME:EST
DTSTART:20251102T060000
END:STANDARD
END:VTIMEZONE
BEGIN:VEVENT
DTSTART;TZID=America/New_York:20240902T110000
DTEND;TZID=America/New_York:20240904T190000
DTSTAMP:20260424T115823
CREATED:20240830T145140Z
LAST-MODIFIED:20240830T221511Z
UID:19963-1725274800-1725476400@www.daveandadamsstore.com
SUMMARY:Back 2 School Sale
DESCRIPTION:Gear Up & Collect Your Way into the New School Year! \nGet ready for the start of the new school year with Dave & Adam’s! The sale runs Monday\, September 2nd  through Wednesday\, September 4th. \nTake 20% Off Apparel\, Memorabilia & Collectibles! \nPLUS\, we’re giving away a $100 Dave & Adam’s Gift Card Every Day! \n***no purchase necessary\, simply enter in store. \n \nVisit us at Dave & Adam’s and gear up for the new school year with the best savings of the season!
URL:https://www.daveandadamsstore.com/event/back-2-school-sale-2024/
LOCATION:Dave & Adam’s\, 8075 Sheridan Drive\, Williamsville\, NY\, 14211\, United States
CATEGORIES:Promotion
ATTACH;FMTTYPE=image/png:https://www.daveandadamsstore.com/wp-content/uploads/2024/08/090224_Back-to-School-Sale_EventBanner.png
END:VEVENT
BEGIN:VEVENT
DTSTART;TZID=America/New_York:20240914T170000
DTEND;TZID=America/New_York:20240914T200000
DTSTAMP:20260424T115823
CREATED:20240617T155050Z
LAST-MODIFIED:20240909T163335Z
UID:19100-1726333200-1726344000@www.daveandadamsstore.com
SUMMARY:Topps Hobby Rip Night
DESCRIPTION:Topps Hobby Rip Night \n  \nSave the Date – Topps Hobby Rip Night is Back and we’re making it Bigger & Better! \nWhether your family is new to the hobby or are seasoned collectors\, this night is for you! There will be raffles/giveaways\, Live Breaks and tons of fun! \nEveryone who attends will get a FREE $25.00 to spend on Topps products\, Apparel or Collectibles! \nPLUS – we’re giving away a HOBBY box every 5 minutes from 5:30pm until the event ends at 8:00pm! That’s 30 hobby boxes we’ll be giving away! And yes\, you must be present to win. \nCheck out the list of boxes we’re giving away: \n  \n\n\n\n\n\n\n5:30\n2024 Bowman Chrome Baseball Hobby Box\n\n\n5:35\n2024 Topps Pro Debut Baseball Hobby Box\n\n\n5:40\n2024 Topps Chrome Baseball Hobby Box\n\n\n5:45\n2024 Bowman Chrome Baseball HTA Choice Box\n\n\n5:50\n2023/24 Topps Chrome UEFA Club Competitions Soccer Hobby Box\n\n\n5:55\n2023 Topps Chrome Update Series Baseball Breaker Delight Box\n\n\n6:00\n2024 Bowman Chrome Baseball Hobby Box\n\n\n6:05\n2022/23 Bowman University Inception Hobby Box\n\n\n6:10\n2024 Topps Chrome Tennis Hobby Box\n\n\n6:15\n2023 Bowman Chrome Baseball HTA Choice Box\n\n\n6:20\n2022 Topps Chrome Sonic Baseball Hobby Lite Box x 5\n\n\n6:25\n2024 Topps Pro Debut Baseball Hobby Box\n\n\n6:30\n2023 Bowman Chrome Baseball Hobby Box\n\n\n6:35\n2022/23 Bowman University Inception Hobby Box\n\n\n6:40\n2024 Topps Chrome Baseball Hobby Box\n\n\n6:45\n2024 Bowman Chrome Baseball HTA Choice Box\n\n\n6:50\n2023/24 Topps Chrome UEFA Club Competitions Soccer Hobby Box\n\n\n6:55\n2022 Topps Chrome Sonic Baseball Hobby Lite Box x 5\n\n\n7:00\n2024 Bowman Chrome Baseball Hobby Box\n\n\n7:05\n2023 Topps Chrome Update Series Baseball Breaker Delight Box\n\n\n7:10\n2024 Topps Chrome Tennis Hobby Box\n\n\n7:15\n2023 Bowman Chrome Baseball HTA Choice Box\n\n\n7:20\n2023 Bowman Chrome Baseball Hobby Box\n\n\n7:25\n2024 Topps Pro Debut Baseball Hobby Box\n\n\n7:30\n2024 Topps Tier One Baseball Hobby Box\n\n\n7:35\n2024 Topps Finest Baseball Hobby Box\n\n\n7:40\n2024 Topps Chrome Baseball Hobby Jumbo Box\n\n\n7:45\n2024 Bowman Chrome Baseball HTA Choice Box\n\n\n7:50\n2023 Topps Composite Football Hobby Box\n\n\n7:55\n2023/24 Topps Chrome Basketball Hobby Box\n\n\n8:00\n2024 Topps Pristine Baseball Hobby Box\n\n\n\n  \nThe Dave & Adam’s Breaking & Content Teams will be at the event to interact with collectors for this exciting event! \n \nIf you are posting your photos to social media from the event\, please make sure to use the official Topps hashtag: #toppsripnight \nPlease contact us at buffalo@dacardworld.com if you have any questions about the event!
URL:https://www.daveandadamsstore.com/event/topps-hobby-rip-night-2024/
LOCATION:Dave & Adam’s\, 8075 Sheridan Drive\, Williamsville\, NY\, 14211\, United States
CATEGORIES:Promotion
ATTACH;FMTTYPE=image/png:https://www.daveandadamsstore.com/wp-content/uploads/2024/06/091424_Topps-Hobby-Rip-Night_DA-Site.png
END:VEVENT
BEGIN:VEVENT
DTSTART;TZID=America/New_York:20240928T110000
DTEND;TZID=America/New_York:20240928T160000
DTSTAMP:20260424T115823
CREATED:20240709T160643Z
LAST-MODIFIED:20240909T163128Z
UID:19406-1727521200-1727539200@www.daveandadamsstore.com
SUMMARY:JSA at Dave & Adam’s
DESCRIPTION:James Spence Authentication Is Coming Back To Dave & Adam’s!\n\nJames Spence Authentication (JSA) is one of the leaders of autograph authentication.\n\nJSA experts will be in-store Saturday\, September 28th from 11:00am to 4:00pm. During those times\, you can bring your items directly to the store for authentication. Customers are more than welcome to drop off their items starting Friday\, September 27th.\n\nVisit the JSA Fees Page to see how much it will cost to authenticate your item.\n\nIf you are unable to make it either day\, JSA will also be taking drop-off submissions which will be completed and available to pick up after the two-day event. Check out JSA’s website for more information on how to submit an item.\n\nIf you have any questions regarding this event please feel free to contact us by calling 716-626-0000 or emailing buffalo@dacardworld.com
URL:https://www.daveandadamsstore.com/event/jsa-at-dave-adams-september-2024/
LOCATION:Dave & Adam’s\, 8075 Sheridan Drive\, Williamsville\, NY\, 14211\, United States
CATEGORIES:Promotion
ATTACH;FMTTYPE=image/png:https://www.daveandadamsstore.com/wp-content/uploads/2024/07/092824_JSA-Event_DA-Site.png
END:VEVENT
END:VCALENDAR