BEGIN:VCALENDAR
VERSION:2.0
PRODID:-//Dave and Adam&#039;s Store - ECPv6.15.11//NONSGML v1.0//EN
CALSCALE:GREGORIAN
METHOD:PUBLISH
X-ORIGINAL-URL:https://www.daveandadamsstore.com
X-WR-CALDESC:Events for Dave and Adam&#039;s Store
REFRESH-INTERVAL;VALUE=DURATION:PT1H
X-Robots-Tag:noindex
X-PUBLISHED-TTL:PT1H
BEGIN:VTIMEZONE
TZID:America/New_York
BEGIN:DAYLIGHT
TZOFFSETFROM:-0500
TZOFFSETTO:-0400
TZNAME:EDT
DTSTART:20230312T070000
END:DAYLIGHT
BEGIN:STANDARD
TZOFFSETFROM:-0400
TZOFFSETTO:-0500
TZNAME:EST
DTSTART:20231105T060000
END:STANDARD
BEGIN:DAYLIGHT
TZOFFSETFROM:-0500
TZOFFSETTO:-0400
TZNAME:EDT
DTSTART:20240310T070000
END:DAYLIGHT
BEGIN:STANDARD
TZOFFSETFROM:-0400
TZOFFSETTO:-0500
TZNAME:EST
DTSTART:20241103T060000
END:STANDARD
BEGIN:DAYLIGHT
TZOFFSETFROM:-0500
TZOFFSETTO:-0400
TZNAME:EDT
DTSTART:20250309T070000
END:DAYLIGHT
BEGIN:STANDARD
TZOFFSETFROM:-0400
TZOFFSETTO:-0500
TZNAME:EST
DTSTART:20251102T060000
END:STANDARD
END:VTIMEZONE
BEGIN:VEVENT
DTSTART;TZID=America/New_York:20240803T100000
DTEND;TZID=America/New_York:20240803T200000
DTSTAMP:20260424T140204
CREATED:20240617T154133Z
LAST-MODIFIED:20240731T105749Z
UID:19096-1722679200-1722715200@www.daveandadamsstore.com
SUMMARY:Topps Trading Card Day
DESCRIPTION:Topps Trading Card Day Returns for 2024! \nCollector’s who visit Dave & Adam’s on Saturday\, August 3rd will receive a FREE pack of Topps Trading Cards!\n  \n\nThis year\, collectors can choose from packs of MLB®\, Garbage Pail Kids® and Bowman U Football cards!\n\n\n\n		\n		\n			\n				\n			\n			\n				\n			\n			\n				\n			\n		\n\n\n\n\n		\n		\n			\n				\n			\n			\n				\n			\n			\n				\n			\n		\n\n\n\n\n		\n		\n			\n				\n			\n			\n				\n			\n			\n				\n			\n		\n\n\n\nPLUS…any collector who purchases $10 or more of Topps or Bowman products on August 3rd will receive an exclusive Elly De La Cruz or Shohei Ohtani card!\nLimit 1 card per person\, while supplies last.\n \n\n		\n		\n			\n				\n			\n			\n				\n			\n		\n\nCelebrate Topps Trading Card Day with Dave & Adam’s! \n\n 
URL:https://www.daveandadamsstore.com/event/topps-trading-card-day/
LOCATION:Dave & Adam’s\, 8075 Sheridan Drive\, Williamsville\, NY\, 14211\, United States
CATEGORIES:Promotion
ATTACH;FMTTYPE=image/png:https://www.daveandadamsstore.com/wp-content/uploads/2024/06/ToppsTradingCardDay_LogoAlt.png
END:VEVENT
END:VCALENDAR