BEGIN:VCALENDAR
VERSION:2.0
PRODID:-//Dave and Adam&#039;s Store - ECPv6.15.11//NONSGML v1.0//EN
CALSCALE:GREGORIAN
METHOD:PUBLISH
X-ORIGINAL-URL:https://www.daveandadamsstore.com
X-WR-CALDESC:Events for Dave and Adam&#039;s Store
REFRESH-INTERVAL;VALUE=DURATION:PT1H
X-Robots-Tag:noindex
X-PUBLISHED-TTL:PT1H
BEGIN:VTIMEZONE
TZID:America/New_York
BEGIN:DAYLIGHT
TZOFFSETFROM:-0500
TZOFFSETTO:-0400
TZNAME:EDT
DTSTART:20230312T070000
END:DAYLIGHT
BEGIN:STANDARD
TZOFFSETFROM:-0400
TZOFFSETTO:-0500
TZNAME:EST
DTSTART:20231105T060000
END:STANDARD
BEGIN:DAYLIGHT
TZOFFSETFROM:-0500
TZOFFSETTO:-0400
TZNAME:EDT
DTSTART:20240310T070000
END:DAYLIGHT
BEGIN:STANDARD
TZOFFSETFROM:-0400
TZOFFSETTO:-0500
TZNAME:EST
DTSTART:20241103T060000
END:STANDARD
BEGIN:DAYLIGHT
TZOFFSETFROM:-0500
TZOFFSETTO:-0400
TZNAME:EDT
DTSTART:20250309T070000
END:DAYLIGHT
BEGIN:STANDARD
TZOFFSETFROM:-0400
TZOFFSETTO:-0500
TZNAME:EST
DTSTART:20251102T060000
END:STANDARD
END:VTIMEZONE
BEGIN:VEVENT
DTSTART;TZID=America/New_York:20240413T100000
DTEND;TZID=America/New_York:20240413T200000
DTSTAMP:20260424T202304
CREATED:20240321T123411Z
LAST-MODIFIED:20240328T113836Z
UID:18122-1713002400-1713038400@www.daveandadamsstore.com
SUMMARY:2024 Upper Deck National Hockey Card Day!
DESCRIPTION:National Hockey Card Day\, now in its 15th year\, is a day of celebration for hockey fans and collectors around the world! \nThis unique set offers something for fans and collectors alike. In each pack\, you’ll find cards featuring a heralded crop of 2023-24 rookies (Prominent Rookies)\, current superstars (Hockey Superstars) and/or retired legends of the game (Legends on Ice). \nAdditionally\, keep an eye out for UD Victory Black Rookie and Mascot cards\, as well as Player Autograph and all-new Mascot Autograph cards randomly inserted in packs! \nStop into the store on Saturday\, April 13th and receive a FREE pack of National Hockey Card Day cards! \nPlus\, spend $10 on Upper Deck products and get a FREE special Connor Bedard Rookie Moments bonus card! *While supplies last. \nCheck out the complete National Hockey Card Day Checklist.
URL:https://www.daveandadamsstore.com/event/2024-upper-deck-national-hockey-card-day/
LOCATION:Dave & Adam’s\, 8075 Sheridan Drive\, Williamsville\, NY\, 14211\, United States
CATEGORIES:Promotion
ATTACH;FMTTYPE=image/png:https://www.daveandadamsstore.com/wp-content/uploads/2024/03/041324_National-Hockey-Card-Day_DA-Site.png
END:VEVENT
END:VCALENDAR