BEGIN:VCALENDAR
VERSION:2.0
PRODID:-//Dave and Adam&#039;s Store - ECPv6.15.11//NONSGML v1.0//EN
CALSCALE:GREGORIAN
METHOD:PUBLISH
X-WR-CALNAME:Dave and Adam&#039;s Store
X-ORIGINAL-URL:https://www.daveandadamsstore.com
X-WR-CALDESC:Events for Dave and Adam&#039;s Store
REFRESH-INTERVAL;VALUE=DURATION:PT1H
X-Robots-Tag:noindex
X-PUBLISHED-TTL:PT1H
BEGIN:VTIMEZONE
TZID:America/New_York
BEGIN:DAYLIGHT
TZOFFSETFROM:-0500
TZOFFSETTO:-0400
TZNAME:EDT
DTSTART:20220313T070000
END:DAYLIGHT
BEGIN:STANDARD
TZOFFSETFROM:-0400
TZOFFSETTO:-0500
TZNAME:EST
DTSTART:20221106T060000
END:STANDARD
BEGIN:DAYLIGHT
TZOFFSETFROM:-0500
TZOFFSETTO:-0400
TZNAME:EDT
DTSTART:20230312T070000
END:DAYLIGHT
BEGIN:STANDARD
TZOFFSETFROM:-0400
TZOFFSETTO:-0500
TZNAME:EST
DTSTART:20231105T060000
END:STANDARD
BEGIN:DAYLIGHT
TZOFFSETFROM:-0500
TZOFFSETTO:-0400
TZNAME:EDT
DTSTART:20240310T070000
END:DAYLIGHT
BEGIN:STANDARD
TZOFFSETFROM:-0400
TZOFFSETTO:-0500
TZNAME:EST
DTSTART:20241103T060000
END:STANDARD
END:VTIMEZONE
BEGIN:VEVENT
DTSTART;TZID=America/New_York:20230701T100000
DTEND;TZID=America/New_York:20230731T190000
DTSTAMP:20260425T120447
CREATED:20230630T190859Z
LAST-MODIFIED:20230630T191006Z
UID:2708-1688205600-1690830000@www.daveandadamsstore.com
SUMMARY:July Giveaway: Buffalo Bills Tailgate Package
DESCRIPTION:No purchase necessary – simply stop in store and fill out an entry form. \nContest runs through Monday\, July 31st. One random winner will be drawn on or about Friday\, August 4th 2023. \nLimit 1 entry per person\, multiple entries will be void.
URL:https://www.daveandadamsstore.com/event/july-giveaway-buffalo-bills-tailgate-package/
LOCATION:Dave & Adam’s\, 8075 Sheridan Drive\, Williamsville\, NY\, 14211\, United States
CATEGORIES:Promotion
ATTACH;FMTTYPE=image/png:https://www.daveandadamsstore.com/wp-content/uploads/2023/06/070123_July-Retail-Giveaway_DA-Site.png
END:VEVENT
BEGIN:VEVENT
DTSTART;TZID=America/New_York:20230720T110000
DTEND;TZID=America/New_York:20230731T190000
DTSTAMP:20260425T120447
CREATED:20230719T115641Z
LAST-MODIFIED:20230720T145017Z
UID:2732-1689850800-1690830000@www.daveandadamsstore.com
SUMMARY:Christmas in July Sale
DESCRIPTION:Celebrate Christmas in July with Dave & Adam’s!\n  \nChristmas in July starts Thursday\, July 20th and runs through July 31st! \n\nTake 10% off ALL Trading Cards – Unopened boxes\, packs & single cards!\nTake 15% off Collectibles\, Memorabilia & Apparel!\n\nPLUS – We’ll have a special guest in store on Saturday\, July 22nd from Noon – 3:00pm handing out some goodie bags to kids! \nMake sure to follow us on social media as we’ll have 12 Days of Giveaways! \nWe’re giving away the following items: \n\n2023 Topps Baseball Series 2 Jumbo Box\nVictor Oloffson Autographed Upper Deck Young Guns Photo\nMagic the Gathering Lord of the Rings Prerelease Kit\nHit Parade Retail Exclusive Buffalo Sabres Autographed Hockey Puck Box\nLebron James Rookie Card Upper Deck Magazine\n2022/23 Upper Deck Series 1 Hockey Hobby Box\nJosh Allen & Stefon Diggs 6″ Figurines (Chase Variants)\nPokémon Champion’s Path Elite Trainer Box\nRick Jeanneret Autographed Original Artwork\nHit Parade Retail Exclusive Autographed Football Mini Helmet Box\n2022 Panini Donruss Football H2 Box\nJosh Allen Red Nike Vapor Jersey\n\nWhere to follow Dave & Adam’s on Social: \n\nFacebook\nTwitter\nInstagram\nTikTok\n\n 
URL:https://www.daveandadamsstore.com/event/christmas-in-july-sale-2023/
LOCATION:Dave & Adam’s\, 8075 Sheridan Drive\, Williamsville\, NY\, 14211\, United States
CATEGORIES:Promotion
ATTACH;FMTTYPE=image/png:https://www.daveandadamsstore.com/wp-content/uploads/2023/07/072023_Christmas-in-July-Sale_DA-Site.png
END:VEVENT
END:VCALENDAR