BEGIN:VCALENDAR
VERSION:2.0
PRODID:-//Dave and Adam&#039;s Store - ECPv6.15.11//NONSGML v1.0//EN
CALSCALE:GREGORIAN
METHOD:PUBLISH
X-ORIGINAL-URL:https://www.daveandadamsstore.com
X-WR-CALDESC:Events for Dave and Adam&#039;s Store
REFRESH-INTERVAL;VALUE=DURATION:PT1H
X-Robots-Tag:noindex
X-PUBLISHED-TTL:PT1H
BEGIN:VTIMEZONE
TZID:America/New_York
BEGIN:DAYLIGHT
TZOFFSETFROM:-0500
TZOFFSETTO:-0400
TZNAME:EDT
DTSTART:20220313T070000
END:DAYLIGHT
BEGIN:STANDARD
TZOFFSETFROM:-0400
TZOFFSETTO:-0500
TZNAME:EST
DTSTART:20221106T060000
END:STANDARD
BEGIN:DAYLIGHT
TZOFFSETFROM:-0500
TZOFFSETTO:-0400
TZNAME:EDT
DTSTART:20230312T070000
END:DAYLIGHT
BEGIN:STANDARD
TZOFFSETFROM:-0400
TZOFFSETTO:-0500
TZNAME:EST
DTSTART:20231105T060000
END:STANDARD
BEGIN:DAYLIGHT
TZOFFSETFROM:-0500
TZOFFSETTO:-0400
TZNAME:EDT
DTSTART:20240310T070000
END:DAYLIGHT
BEGIN:STANDARD
TZOFFSETFROM:-0400
TZOFFSETTO:-0500
TZNAME:EST
DTSTART:20241103T060000
END:STANDARD
END:VTIMEZONE
BEGIN:VEVENT
DTSTART;TZID=America/New_York:20230512T160000
DTEND;TZID=America/New_York:20230604T170000
DTSTAMP:20260425T135026
CREATED:20230512T202317Z
LAST-MODIFIED:20230512T202317Z
UID:2615-1683907200-1685898000@www.daveandadamsstore.com
SUMMARY:Owen Power Junior Assistant
DESCRIPTION:Enter in-store for a chance to be Owen Power’s Assistant during his signing! \nOne lucky winner will be selected to be the Junior Assistant for Owen Power during his signing on Friday\, June 9th\, 2023 at 6 PM! Plus get an autographed photo of Owen! \n  \nJunior Assistant responsibilities include: \n\n\nAttend the autograph signing with Owen Power for FREE.! \n\n\nArrive early to meet Owen Power ! \n\n\nSit with Owen Power during the signing! \n\n\nGet an autographed photo from Owen Power ! \n\n\nMake memories that will last a lifetime! \n\n\nHave Fun! \n\n\n  \nStop in and fill out an entry form! \nIn order to win\, you must have:\nParent/Guardian’s Name | Phone Number | Email Address \n*No purchase necessary. 1 entry per child (6 to 14 years old). Non-transferable. The contest runs through June 4th\, 2023. The winner will be picked and notified on or around June 6th\, 2023. The winner can work as much or as little of the signing as they want\, plus they will get to meet Tage Thompson and get an autographed photo!
URL:https://www.daveandadamsstore.com/event/owen-power-junior-assistant/
LOCATION:Dave & Adam’s\, 8075 Sheridan Drive\, Williamsville\, NY\, 14211\, United States
CATEGORIES:Promotion
ATTACH;FMTTYPE=image/png:https://www.daveandadamsstore.com/wp-content/uploads/2023/05/060923_Power-Jr-Asst-Contest_DA-Site.png
END:VEVENT
BEGIN:VEVENT
DTSTART;TZID=America/New_York:20230601T100000
DTEND;TZID=America/New_York:20230630T190000
DTSTAMP:20260425T135026
CREATED:20230606T181022Z
LAST-MODIFIED:20230606T181404Z
UID:2651-1685613600-1688151600@www.daveandadamsstore.com
SUMMARY:June Giveaway: Josh Allen Wyoming Cowboys Jersey
DESCRIPTION:No purchase necessary – simply stop in store and fill out an entry form. \nContest runs through Friday\, June 30th. One random winner will be drawn on or about Monday\, July 3rd 2023. \nLimit 1 entry per person\, multiple entries will be void.
URL:https://www.daveandadamsstore.com/event/june-giveaway-josh-allen-wyoming-cowboys-jersey/
LOCATION:Dave & Adam’s\, 8075 Sheridan Drive\, Williamsville\, NY\, 14211\, United States
CATEGORIES:Promotion
ATTACH;FMTTYPE=image/png:https://www.daveandadamsstore.com/wp-content/uploads/2023/06/060523_June-Retail-Giveaway_DA-Site.png
END:VEVENT
BEGIN:VEVENT
DTSTART;TZID=America/New_York:20230616T110000
DTEND;TZID=America/New_York:20230618T170000
DTSTAMP:20260425T135026
CREATED:20230608T181454Z
LAST-MODIFIED:20230613T144342Z
UID:2656-1686913200-1687107600@www.daveandadamsstore.com
SUMMARY:Father's Day Sale
DESCRIPTION:Celebrate Dad this Father’s Day at Dave & Adam’s! We’ll have great deals on unopened boxes & packs PLUS the return of the popular Panini Father’s Day Packs!\n\n\n\n\n\n \n  \n \n  \n\n$100 store Gift Card x5\n2023 Topps Heritage Baseball Hobby Box\n2022/23 Upper Deck Trilogy Hockey Hobby Box\n2023 Hit Parade Autographed Buffalo Bills Football Jersey Series 1 Hobby Box\n2023 Hit Parade Autographed Baseball Jersey Series 2 Hobby Box\n2023 Hit Parade Autographed Buffalo BIG Box of Memorabilia Series 3 Hobby Box\n\n 
URL:https://www.daveandadamsstore.com/event/fathers-day-sale-2023/
LOCATION:Dave & Adam’s\, 8075 Sheridan Drive\, Williamsville\, NY\, 14211\, United States
CATEGORIES:Promotion
ATTACH;FMTTYPE=image/png:https://www.daveandadamsstore.com/wp-content/uploads/2023/06/061623_Fathers-Day-Sale_RETAIL_DA-Site.png
END:VEVENT
END:VCALENDAR