BEGIN:VCALENDAR
VERSION:2.0
PRODID:-//Dave and Adam&#039;s Store - ECPv6.15.11//NONSGML v1.0//EN
CALSCALE:GREGORIAN
METHOD:PUBLISH
X-ORIGINAL-URL:https://www.daveandadamsstore.com
X-WR-CALDESC:Events for Dave and Adam&#039;s Store
REFRESH-INTERVAL;VALUE=DURATION:PT1H
X-Robots-Tag:noindex
X-PUBLISHED-TTL:PT1H
BEGIN:VTIMEZONE
TZID:America/New_York
BEGIN:DAYLIGHT
TZOFFSETFROM:-0500
TZOFFSETTO:-0400
TZNAME:EDT
DTSTART:20220313T070000
END:DAYLIGHT
BEGIN:STANDARD
TZOFFSETFROM:-0400
TZOFFSETTO:-0500
TZNAME:EST
DTSTART:20221106T060000
END:STANDARD
BEGIN:DAYLIGHT
TZOFFSETFROM:-0500
TZOFFSETTO:-0400
TZNAME:EDT
DTSTART:20230312T070000
END:DAYLIGHT
BEGIN:STANDARD
TZOFFSETFROM:-0400
TZOFFSETTO:-0500
TZNAME:EST
DTSTART:20231105T060000
END:STANDARD
BEGIN:DAYLIGHT
TZOFFSETFROM:-0500
TZOFFSETTO:-0400
TZNAME:EDT
DTSTART:20240310T070000
END:DAYLIGHT
BEGIN:STANDARD
TZOFFSETFROM:-0400
TZOFFSETTO:-0500
TZNAME:EST
DTSTART:20241103T060000
END:STANDARD
END:VTIMEZONE
BEGIN:VEVENT
DTSTART;TZID=America/New_York:20230331T080000
DTEND;TZID=America/New_York:20230402T170000
DTSTAMP:20260425T172151
CREATED:20230310T203115Z
LAST-MODIFIED:20230310T203115Z
UID:2474-1680249600-1680454800@www.daveandadamsstore.com
SUMMARY:Pokémon Scarlet & Violet Release Weekend!
DESCRIPTION:Celebrate the release of the new Pokémon set: Scarlet & Violet all weekend long! \nWe plan on having some special events & sales going on at the store to celebrate this new era of Pokémon. \nTake 10% off all Pokémon Singles & Supplies (playmats\, deck boxes\, sleeves\, etc) Friday March 31st – Sunday April 2nd. \nFriday is release day! So we’ll have Pokémon playing on the TV and Pokémon activities like coloring sheets & crafts all day long! From 5pm-7pm we will have Pokémon Trading Card Bingo and we will host a Pokémon Trade Night where fans of all ages are welcome to come and trade their cards with each other. \nSaturday the 10% sale will continue and we will have activity sheets available for the kids. \nSunday we will have a Special Pokémon League Tournament. This tournament will be standard format and a Pokémon Player ID will be needed. If they don’t have one\, we can provide them with one at sign up. Sign ups will begin at 11:00am and the tournament start time will be 12:00. We will have special prizes for the top three and a FREE pack for everyone that enters. There will be no age limit for this tournament as long as the player knows the rules and how to play.
URL:https://www.daveandadamsstore.com/event/pokemon-scarlet-violet-release-weekend/
LOCATION:Dave & Adam’s\, 8075 Sheridan Drive\, Williamsville\, NY\, 14211\, United States
CATEGORIES:Promotion
ATTACH;FMTTYPE=image/png:https://www.daveandadamsstore.com/wp-content/uploads/2023/03/030723_Pokemon-SV-Weekend_DA-Site.png
END:VEVENT
BEGIN:VEVENT
DTSTART;TZID=America/New_York:20230415T100000
DTEND;TZID=America/New_York:20230415T190000
DTSTAMP:20260425T172151
CREATED:20230314T150721Z
LAST-MODIFIED:20230329T194751Z
UID:2466-1681552800-1681585200@www.daveandadamsstore.com
SUMMARY:2023 Upper Deck National Hockey Card Day!
DESCRIPTION:National Hockey Card Day\, now in its 14th year\, is a day of celebration for hockey fans and collectors around the world! \nThis unique set offers something for fans and collectors alike. In each pack\, you’ll find cards featuring a heralded crop of 2022-23 rookies\, current superstars and/or retired legends of the game. \nAdditionally\, look for Mascot\, UD Victory Black Rookie\, and super rare autographed cards randomly seeded into packs! \nStop into the store on Saturday\, April 15th and receive a FREE pack of National Hockey Card Day cards! \nPlus\, spend $10 on Upper Deck products and get a FREE special Matty Beniers Rookie Moments bonus card! \n*While supplies last \nCheck out the complete National Hockey Card Day Checklist below: \n2023 National Hockey Card Day Checklist \n  \n \n 
URL:https://www.daveandadamsstore.com/event/2023-upper-deck-national-hockey-card-day/
LOCATION:Dave & Adam’s\, 8075 Sheridan Drive\, Williamsville\, NY\, 14211\, United States
CATEGORIES:Promotion
ATTACH;FMTTYPE=image/png:https://www.daveandadamsstore.com/wp-content/uploads/2023/03/031523_National-Hockey-Card-Day_DA-Site.png
END:VEVENT
BEGIN:VEVENT
DTSTART;TZID=America/New_York:20230417T080000
DTEND;TZID=America/New_York:20230515T190000
DTSTAMP:20260425T172151
CREATED:20230417T145001Z
LAST-MODIFIED:20230417T145001Z
UID:2554-1681718400-1684177200@www.daveandadamsstore.com
SUMMARY:2023 Panini NBA Player of the Day
DESCRIPTION:How to play:\n  \nMake a purchase of $25 or more in Panini NBA Cards from April 15th – May 15th. There is a no-purchase-necessary option as well (see official rules for details). Open your pack of cards you purchased in front of a store employee and pull the Panini NBA Player of the Day or one of the Wild Cards highlighted on the poster and you will receive a 2022-23 Panini NBA Promotional Card Pack and your name will be entered on the winners list.\n\nFour times during the promotion one person will be randomly selected from the daily winners as a weekly prize winner.\n\nAt the conclusion of the 30 day promotion\, one winner will be randomly selected as the Panini NBA Player of the Month winner. Winner will receive an autographed card and will be submitted into Panini’s National Sweepstakes.\n\n  \nLimit one pack per family\, per day.\n\n  \nPrize Structure for In-Store Promotion:\n \nPanini NBA Player of the Day/Wild Card: 2022-23 Panini NBA Promotional Card Pack\nPanini NBA Player of the Week: 2022-23 Panini NBA Player of the Day T-Shirt\nPanini NBA Player of the Month: Autographed Trading Card\n\n  \nPrize Structure for National Sweepstakes:\n \nGrand Prize Winner (1) – “Panini NBA Ultimate Collector Fantasy Day.” Event includes\, but is not limited to\, a 60-minute “VIP Experience” for up to 10 friends and family members with a current NBA player or NBA legend; an autographed Panini collectible from the player; and a $250 shopping spree for Panini NBA licensed products at the hobby shop at which the winner entered the promotion. Player selection and event details are at the sole discretion of Panini America\, Inc.\n\n  \nFirst Prize (10) — Autographed Panini NBA Collectible\n\n  \nSecond Prize (25) — Autographed Panini Collectible
URL:https://www.daveandadamsstore.com/event/2023-panini-nba-player-of-the-day/
LOCATION:Dave & Adam’s\, 8075 Sheridan Drive\, Williamsville\, NY\, 14211\, United States
CATEGORIES:Promotion
ATTACH;FMTTYPE=image/jpeg:https://www.daveandadamsstore.com/wp-content/uploads/2023/04/nbapod_Instagram_Trio-1.jpg
END:VEVENT
END:VCALENDAR