BEGIN:VCALENDAR
VERSION:2.0
PRODID:-//Dave and Adam&#039;s Store - ECPv6.15.11//NONSGML v1.0//EN
CALSCALE:GREGORIAN
METHOD:PUBLISH
X-WR-CALNAME:Dave and Adam&#039;s Store
X-ORIGINAL-URL:https://www.daveandadamsstore.com
X-WR-CALDESC:Events for Dave and Adam&#039;s Store
REFRESH-INTERVAL;VALUE=DURATION:PT1H
X-Robots-Tag:noindex
X-PUBLISHED-TTL:PT1H
BEGIN:VTIMEZONE
TZID:America/New_York
BEGIN:DAYLIGHT
TZOFFSETFROM:-0500
TZOFFSETTO:-0400
TZNAME:EDT
DTSTART:20220313T070000
END:DAYLIGHT
BEGIN:STANDARD
TZOFFSETFROM:-0400
TZOFFSETTO:-0500
TZNAME:EST
DTSTART:20221106T060000
END:STANDARD
BEGIN:DAYLIGHT
TZOFFSETFROM:-0500
TZOFFSETTO:-0400
TZNAME:EDT
DTSTART:20230312T070000
END:DAYLIGHT
BEGIN:STANDARD
TZOFFSETFROM:-0400
TZOFFSETTO:-0500
TZNAME:EST
DTSTART:20231105T060000
END:STANDARD
BEGIN:DAYLIGHT
TZOFFSETFROM:-0500
TZOFFSETTO:-0400
TZNAME:EDT
DTSTART:20240310T070000
END:DAYLIGHT
BEGIN:STANDARD
TZOFFSETFROM:-0400
TZOFFSETTO:-0500
TZNAME:EST
DTSTART:20241103T060000
END:STANDARD
END:VTIMEZONE
BEGIN:VEVENT
DTSTART;TZID=America/New_York:20230131T080000
DTEND;TZID=America/New_York:20230219T170000
DTSTAMP:20260425T222223
CREATED:20230131T130106Z
LAST-MODIFIED:20230131T130254Z
UID:2383-1675152000-1676826000@www.daveandadamsstore.com
SUMMARY:Isak Rosén & Jiří Kulich Junior Assistant
DESCRIPTION:Enter in-store for a chance to be Isak Rosén & Jiří Kulich’s Junior Assistant during his signing!\n\n\n\n\n\nOne lucky winner will be selected to be the Junior Assistant for Isak Rosén & Jiří Kulich during their signing on Wednesday\, February 22nd\, 2023 at 6 PM! Plus get an autographed photo of each player! \n  \nJunior Assistant responsibilities include: \n\n\nAttend the autograph signing with Isak Rosén & Jiří Kulich for FREE.! \n\n\nArrive early to meet Isak Rosén & Jiří Kulich! \n\n\nSit with Isak Rosén & Jiří Kulich during the signing! \n\n\nGet an autographed photo from Isak Rosén & Jiří Kulich! \n\n\nMake memories that will last a lifetime! \n\n\nHave Fun! \n\n\n  \nStop in and fill out an entry form! \nIn order to win\, you must have:\nParent/Guardian’s Name | Phone Number | Email Address \n*No purchase necessary. 1 entry per child (6 to 16 years old). Non-transferable. The contest runs through February 19th\, 2023. The winner will be picked and notified on or around February 20th\, 2023. The winner can work as much or as little of the signing as they want\, plus they will get to meet Isak Rosén & Jiří Kulich and get an autographed photo
URL:https://www.daveandadamsstore.com/event/isak-rosen-jiri-kulich-junior-assistant/
LOCATION:Dave & Adam’s\, 8075 Sheridan Drive\, Williamsville\, NY\, 14211\, United States
CATEGORIES:Promotion
ATTACH;FMTTYPE=image/png:https://www.daveandadamsstore.com/wp-content/uploads/2023/01/022223_Rosen-Kulich-Jr-Asst-Contest_DA-Site.png
END:VEVENT
END:VCALENDAR