BEGIN:VCALENDAR
VERSION:2.0
PRODID:-//Dave and Adam&#039;s Store - ECPv6.15.11//NONSGML v1.0//EN
CALSCALE:GREGORIAN
METHOD:PUBLISH
X-WR-CALNAME:Dave and Adam&#039;s Store
X-ORIGINAL-URL:https://www.daveandadamsstore.com
X-WR-CALDESC:Events for Dave and Adam&#039;s Store
REFRESH-INTERVAL;VALUE=DURATION:PT1H
X-Robots-Tag:noindex
X-PUBLISHED-TTL:PT1H
BEGIN:VTIMEZONE
TZID:America/New_York
BEGIN:DAYLIGHT
TZOFFSETFROM:-0500
TZOFFSETTO:-0400
TZNAME:EDT
DTSTART:20250309T070000
END:DAYLIGHT
BEGIN:STANDARD
TZOFFSETFROM:-0400
TZOFFSETTO:-0500
TZNAME:EST
DTSTART:20251102T060000
END:STANDARD
BEGIN:DAYLIGHT
TZOFFSETFROM:-0500
TZOFFSETTO:-0400
TZNAME:EDT
DTSTART:20260308T070000
END:DAYLIGHT
BEGIN:STANDARD
TZOFFSETFROM:-0400
TZOFFSETTO:-0500
TZNAME:EST
DTSTART:20261101T060000
END:STANDARD
BEGIN:DAYLIGHT
TZOFFSETFROM:-0500
TZOFFSETTO:-0400
TZNAME:EDT
DTSTART:20270314T070000
END:DAYLIGHT
BEGIN:STANDARD
TZOFFSETFROM:-0400
TZOFFSETTO:-0500
TZNAME:EST
DTSTART:20271107T060000
END:STANDARD
END:VTIMEZONE
BEGIN:VEVENT
DTSTART;TZID=America/New_York:20260417T180000
DTEND;TZID=America/New_York:20260419T170000
DTSTAMP:20260419T091600
CREATED:20260312T113316Z
LAST-MODIFIED:20260312T114113Z
UID:21551-1776448800-1776618000@www.daveandadamsstore.com
SUMMARY:Magic the Gathering: Secrets of Strixhaven Prerelease
DESCRIPTION:School Just Got Real\nFind your place among the five colleges as we put down the books and delve into the real world! Uncover the Secrets of Strixhaven and prove your college is the best with every spell you cast. \nDave & Adam’s is hosting a Magic the Gathering: Secrets of Strixhaven Prerelease Weekend! \n\nFriday\, April 17th @ 6:00PM\nSaturday\, April 18th @ Noon\nSunday\, April 19th @ Noon\n\nThe events will be three rounds of Swiss pairings and cost only $19.95! \nSpace is limited to 30 players total! \n  \n \n  \nEach Prerelease Kit contains the following: \n\nIncludes 5 Secrets of Strixhaven Play Boosters\n\nEach Play Booster contains 14 Magic: The Gathering cards\n\nMay contain these cards: SOS 1–305; SOA 1–65; SPG 149–158\n1–5 cards of rarity Rare or higher (2: 33%; 3: 6%; 4–5: <1%)\n3–6 Uncommon cards\n5–8 Common cards\n1 Land cards\n1 card of any rarity is Traditional Foil\nFoil Borderless Mythic in <1% of boosters\nTraditional Foil Land replaces a Land in 20% of boosters\n\n\n\n\n1 Secrets of Strixhaven Seeded Booster\n\nEach Seeded Booster is themed around a different Strixhaven college\n14 college-aligned cards including 1 Traditional Foil Rare or Mythic Rare\n\n\n1 Traditional Foil Rare/Mythic Rare card\nOversized Spindown™ life counter\n\nIf you have any questions\, please call us at 716-626-0000 or contact Matt Brug via email at m.brug@dacardworld.com and he would be happy to answer any questions you have!
URL:https://www.daveandadamsstore.com/event/magic-the-gathering-secrets-of-strixhaven-prerelease/
LOCATION:Dave & Adam’s\, 8075 Sheridan Drive\, Williamsville\, NY\, 14211\, United States
CATEGORIES:Gaming
ATTACH;FMTTYPE=image/png:https://www.daveandadamsstore.com/wp-content/uploads/2026/03/041726_MTG-Secrets-Of-Strixhaven_Social__Event.png
END:VEVENT
END:VCALENDAR